BEGIN:VCALENDAR
VERSION:2.0
PRODID:-//www.hdreach.org//NONSGML kigkonsult.se iCalcreator 2.30.10//
CALSCALE:GREGORIAN
METHOD:PUBLISH
UID:f75f3db5-d018-42b7-add2-65a47b8d0bee
X-WR-CALDESC:
X-WR-RELCALID:dababea83270a7df10d7fe84a8e1954c
X-WR-TIMEZONE:America/New_York
BEGIN:VTIMEZONE
TZID:America/New_York
BEGIN:STANDARD
TZNAME:EST
DTSTART:20231105T020000
TZOFFSETFROM:-0400
TZOFFSETTO:-0500
RDATE:20241103T020000
RDATE:20251102T020000
END:STANDARD
BEGIN:DAYLIGHT
TZNAME:EDT
DTSTART:20240310T020000
TZOFFSETFROM:-0500
TZOFFSETTO:-0400
RDATE:20250309T020000
RDATE:20260308T020000
END:DAYLIGHT
END:VTIMEZONE
BEGIN:VEVENT
UID:20528e64-2307-4d51-bc89-15b12d8cbc6b
DTSTAMP:20260421T040618Z
DESCRIPTION:
DTSTART;TZID=America/New_York:20241017T140000
DTEND;TZID=America/New_York:20241017T150000
LOCATION:https://us06web.zoom.us/meeting/register/tZEpceuorj0uHNV6Dt1z0_-_z
 _f1hLLg94BB
SUMMARY:In Service Training
END:VEVENT
END:VCALENDAR
