BEGIN:VCALENDAR
VERSION:2.0
PRODID:-//www.hdreach.org//NONSGML kigkonsult.se iCalcreator 2.30.10//
CALSCALE:GREGORIAN
METHOD:PUBLISH
UID:a71bdb05-616c-4458-82b0-b30098019bf8
X-WR-CALDESC:
X-WR-RELCALID:d092eddb93e96dd9cea8d57b6edfa047
X-WR-TIMEZONE:America/New_York
BEGIN:VTIMEZONE
TZID:America/New_York
BEGIN:STANDARD
TZNAME:EST
DTSTART:20231105T020000
TZOFFSETFROM:-0400
TZOFFSETTO:-0500
RDATE:20241103T020000
RDATE:20251102T020000
END:STANDARD
BEGIN:DAYLIGHT
TZNAME:EDT
DTSTART:20240310T020000
TZOFFSETFROM:-0500
TZOFFSETTO:-0400
RDATE:20250309T020000
END:DAYLIGHT
END:VTIMEZONE
BEGIN:VEVENT
UID:6450296c-96e2-4ede-b590-27bf6e7980c7
DTSTAMP:20260421T040618Z
DESCRIPTION:
DTSTART;TZID=America/New_York:20240522T140000
DTEND;TZID=America/New_York:20240522T150000
LOCATION:https://us06web.zoom.us/meeting/register/tZMtdOqvqT0sE9A3r1GG_54tb
 KIed72DkCn7
SUMMARY:In Service Webinar
END:VEVENT
END:VCALENDAR
