BEGIN:VCALENDAR
VERSION:2.0
PRODID:-//www.hdreach.org//NONSGML kigkonsult.se iCalcreator 2.30.10//
CALSCALE:GREGORIAN
METHOD:PUBLISH
UID:7f89ee10-d2cf-4dcf-883f-85529fc4128d
X-WR-CALDESC:
X-WR-RELCALID:79ac7b451e45f3c2ba4b6d76488adde1
X-WR-TIMEZONE:America/New_York
BEGIN:VTIMEZONE
TZID:America/New_York
BEGIN:STANDARD
TZNAME:EST
DTSTART:20231105T020000
TZOFFSETFROM:-0400
TZOFFSETTO:-0500
RDATE:20241103T020000
END:STANDARD
BEGIN:DAYLIGHT
TZNAME:EDT
DTSTART:20240310T020000
TZOFFSETFROM:-0500
TZOFFSETTO:-0400
RDATE:20250309T020000
END:DAYLIGHT
END:VTIMEZONE
BEGIN:VEVENT
UID:4cbfb00b-e573-4b69-b795-19144ee8da2e
DTSTAMP:20260421T040618Z
DESCRIPTION:
DTSTART;TZID=America/New_York:20240502T093000
DTEND;TZID=America/New_York:20240502T103000
LOCATION:https://us06web.zoom.us/meeting/register/tZMrcuCsrDsiE9OXT-sCu-kzG
 eVycN1A8BLm
SUMMARY:In Service Webinar
END:VEVENT
END:VCALENDAR
