BEGIN:VCALENDAR
VERSION:2.0
PRODID:-//www.hdreach.org//NONSGML kigkonsult.se iCalcreator 2.30.10//
CALSCALE:GREGORIAN
METHOD:PUBLISH
UID:3e7fbd07-eab2-4a61-9c0e-49e1e3062799
X-WR-CALDESC:Apply on the HD Bookclub webpage to be added to the book club 
 interest list and you will receive further instructions before the officia
 l start. We cannot wait to see you. To https://www.hdreach.org/connect-res
 ources/events/bookclub.html
X-WR-RELCALID:deb1992e5519a034e16c69d21b4e6fd1
X-WR-TIMEZONE:America/New_York
BEGIN:VTIMEZONE
TZID:America/New_York
BEGIN:STANDARD
TZNAME:EST
DTSTART:20271107T020000
TZOFFSETFROM:-0400
TZOFFSETTO:-0500
RDATE:20281105T020000
END:STANDARD
BEGIN:DAYLIGHT
TZNAME:EDT
DTSTART:20280312T020000
TZOFFSETFROM:-0500
TZOFFSETTO:-0400
RDATE:20290311T020000
END:DAYLIGHT
END:VTIMEZONE
BEGIN:VEVENT
UID:46647b83-6cbd-4810-a714-cf2f7a6a34ae
DTSTAMP:20260422T200505Z
DESCRIPTION:Apply on the HD Bookclub webpage to be added to the book club i
 nterest list and you will receive further instructions before the official
  start. We cannot wait to see you. To https://www.hdreach.org/connect-reso
 urces/events/bookclub.html
DTSTART;TZID=America/New_York:20280502T180000
DTEND;TZID=America/New_York:20280502T190000
LOCATION:Zoom
SUMMARY:HD Bookclub
END:VEVENT
END:VCALENDAR
