BEGIN:VCALENDAR
VERSION:2.0
PRODID:-//www.hdreach.org//NONSGML kigkonsult.se iCalcreator 2.30.10//
CALSCALE:GREGORIAN
METHOD:PUBLISH
UID:a145bfee-07cc-4680-a316-12a7e0773c6b
X-WR-CALDESC:
X-WR-RELCALID:d7bff8254dfc2cc6b1be62087fcc4d7f
X-WR-TIMEZONE:America/New_York
BEGIN:VTIMEZONE
TZID:America/New_York
BEGIN:STANDARD
TZNAME:EST
DTSTART:20271107T020000
TZOFFSETFROM:-0400
TZOFFSETTO:-0500
RDATE:20281105T020000
END:STANDARD
BEGIN:DAYLIGHT
TZNAME:EDT
DTSTART:20280312T020000
TZOFFSETFROM:-0500
TZOFFSETTO:-0400
RDATE:20290311T020000
END:DAYLIGHT
END:VTIMEZONE
BEGIN:VEVENT
UID:a771b1c4-08b7-4c69-9ee3-ce485be70e98
DTSTAMP:20260422T182548Z
DESCRIPTION:
DTSTART;TZID=America/New_York:20280409T160000
DTEND;TZID=America/New_York:20280409T170000
LOCATION:70 N Main St\, Mars Theatre Brewing Co\, Mars Hill\, NC 28754 US
SUMMARY:Asheville Social Meet-up (On Pause)
END:VEVENT
END:VCALENDAR
