BEGIN:VCALENDAR
VERSION:2.0
PRODID:-//www.hdreach.org//NONSGML kigkonsult.se iCalcreator 2.30.10//
CALSCALE:GREGORIAN
METHOD:PUBLISH
UID:ea623536-c626-45b6-be47-00c94c099e46
X-WR-CALDESC:Join Zoom Meeting\nhttps://us06web.zoom.us/j/83509170748?pwd=L
 oGJO7TxqlCZb5kraW4a2UPPzb3K2D.1\n\nMeeting ID: 835 0917 0748\nPasscode: 22
 8124\n\n---\n\nOne tap mobile\n+13092053325\,\,83509170748#\,\,\,\,*228124
 # US\n+13126266799\,\,83509170748#\,\,\,\,*228124# US (Chicago)\n\nJoin in
 structions\nhttps://us06web.zoom.us/meetings/83509170748/invitations?signa
 ture=XgDkiTCwGWanjZyKmxzxHg-VkBiQlFv3cOC5wTftbtU\n \n
X-WR-RELCALID:485bcdfb847abcfb70300fc3a0abbf07
X-WR-TIMEZONE:America/New_York
BEGIN:VTIMEZONE
TZID:America/New_York
BEGIN:STANDARD
TZNAME:EST
DTSTART:20271107T020000
TZOFFSETFROM:-0400
TZOFFSETTO:-0500
RDATE:20281105T020000
END:STANDARD
BEGIN:DAYLIGHT
TZNAME:EDT
DTSTART:20270314T020000
TZOFFSETFROM:-0500
TZOFFSETTO:-0400
RDATE:20280312T020000
RDATE:20290311T020000
END:DAYLIGHT
END:VTIMEZONE
BEGIN:VEVENT
UID:f3f4b997-7d93-404a-b3ad-7fd520891b59
DTSTAMP:20260422T150259Z
DESCRIPTION:Join Zoom Meeting\nhttps://us06web.zoom.us/j/83509170748?pwd=Lo
 GJO7TxqlCZb5kraW4a2UPPzb3K2D.1\n\nMeeting ID: 835 0917 0748\nPasscode: 228
 124\n\n---\n\nOne tap mobile\n+13092053325\,\,83509170748#\,\,\,\,*228124#
  US\n+13126266799\,\,83509170748#\,\,\,\,*228124# US (Chicago)\n\nJoin ins
 tructions\nhttps://us06web.zoom.us/meetings/83509170748/invitations?signat
 ure=XgDkiTCwGWanjZyKmxzxHg-VkBiQlFv3cOC5wTftbtU\n \n
DTSTART;TZID=America/New_York:20280219T110000
DTEND;TZID=America/New_York:20280219T120000
LOCATION:https://us06web.zoom.us/j/83509170748?pwd=LoGJO7TxqlCZb5kraW4a2UPP
 zb3K2D.1
SUMMARY:Educational Speaker Hour
END:VEVENT
END:VCALENDAR
