BEGIN:VCALENDAR
VERSION:2.0
PRODID:-//www.hdreach.org//NONSGML kigkonsult.se iCalcreator 2.30.10//
CALSCALE:GREGORIAN
METHOD:PUBLISH
UID:4e1af882-9581-4389-8159-6b227d02c770
X-WR-CALDESC:The Wilmington In-person Meet-up will fall on the 2nd Tuesday 
 of every month starting at 6pm. Come socialize\, learn\, and connect with 
 others in the HD community. Please register if you can\, however walk-ins 
 are welcome.
X-WR-RELCALID:5b9d2c0be667cf6e39e59714a39c0eaf
X-WR-TIMEZONE:America/New_York
BEGIN:VTIMEZONE
TZID:America/New_York
BEGIN:STANDARD
TZNAME:EST
DTSTART:20271107T020000
TZOFFSETFROM:-0400
TZOFFSETTO:-0500
RDATE:20281105T020000
END:STANDARD
BEGIN:DAYLIGHT
TZNAME:EDT
DTSTART:20270314T020000
TZOFFSETFROM:-0500
TZOFFSETTO:-0400
RDATE:20280312T020000
RDATE:20290311T020000
END:DAYLIGHT
END:VTIMEZONE
BEGIN:VEVENT
UID:43328cbd-bf18-4f7c-b7a3-621f1d9326d9
DTSTAMP:20260422T150504Z
DESCRIPTION:The Wilmington In-person Meet-up will fall on the 2nd Tuesday o
 f every month starting at 6pm. Come socialize\, learn\, and connect with o
 thers in the HD community. Please register if you can\, however walk-ins a
 re welcome.
DTSTART;TZID=America/New_York:20280208T180000
DTEND;TZID=America/New_York:20280208T200000
LOCATION:Mad Mole Brewing\, 6309 Boathouse Rd Unit C\, Wilmington\, NC 2840
 3 US
SUMMARY:Wilmington Meetup
END:VEVENT
END:VCALENDAR
