BEGIN:VCALENDAR
VERSION:2.0
PRODID:-//www.hdreach.org//NONSGML kigkonsult.se iCalcreator 2.30.10//
CALSCALE:GREGORIAN
METHOD:PUBLISH
UID:dc56fd9e-9b15-42e3-b2e0-34a9dc3abdd5
X-WR-CALDESC:Come socialize\, learn\, and connect with others in the HD com
 munity. Free pizza! Please register if you can\, however walk-ins are welc
 ome.
X-WR-RELCALID:c7d218f738ef8efe0afd776730a21ec9
X-WR-TIMEZONE:America/New_York
BEGIN:VTIMEZONE
TZID:America/New_York
BEGIN:STANDARD
TZNAME:EST
DTSTART:20271107T020000
TZOFFSETFROM:-0400
TZOFFSETTO:-0500
RDATE:20281105T020000
END:STANDARD
BEGIN:DAYLIGHT
TZNAME:EDT
DTSTART:20270314T020000
TZOFFSETFROM:-0500
TZOFFSETTO:-0400
RDATE:20280312T020000
RDATE:20290311T020000
END:DAYLIGHT
END:VTIMEZONE
BEGIN:VEVENT
UID:7080eda9-ecb2-4de0-8819-f0f7bb0876b4
DTSTAMP:20260422T104912Z
DESCRIPTION:Come socialize\, learn\, and connect with others in the HD comm
 unity. Free pizza! Please register if you can\, however walk-ins are welco
 me.
DTSTART;TZID=America/New_York:20271124T180000
DTEND;TZID=America/New_York:20271124T200000
LOCATION:The Boot Room\, 2501 University Dr\, Durham\, NC 27707 US
SUMMARY:Durham Meet-up
END:VEVENT
END:VCALENDAR
