BEGIN:VCALENDAR
VERSION:2.0
PRODID:-//www.hdreach.org//NONSGML kigkonsult.se iCalcreator 2.30.10//
CALSCALE:GREGORIAN
METHOD:PUBLISH
UID:19d0aacd-a5f6-46a3-84a0-3633766eb69d
X-WR-CALDESC:The Charlotte Meet-up will fall on the 2nd Wednesday of every 
 month starting at 6:30pm. Come socialize\, learn\, and connect with others
  in the HD community. Please register if you can\, however walk-ins are we
 lcome.
X-WR-RELCALID:9df6921df0188aca592a1675a304e648
X-WR-TIMEZONE:America/New_York
BEGIN:VTIMEZONE
TZID:America/New_York
BEGIN:STANDARD
TZNAME:EST
DTSTART:20271107T020000
TZOFFSETFROM:-0400
TZOFFSETTO:-0500
RDATE:20281105T020000
END:STANDARD
BEGIN:DAYLIGHT
TZNAME:EDT
DTSTART:20270314T020000
TZOFFSETFROM:-0500
TZOFFSETTO:-0400
RDATE:20280312T020000
RDATE:20290311T020000
END:DAYLIGHT
END:VTIMEZONE
BEGIN:VEVENT
UID:4e6427b3-21d8-4566-98d9-447b4685124a
DTSTAMP:20260422T105259Z
DESCRIPTION:The Charlotte Meet-up will fall on the 2nd Wednesday of every m
 onth starting at 6:30pm. Come socialize\, learn\, and connect with others 
 in the HD community. Please register if you can\, however walk-ins are wel
 come.
DTSTART;TZID=America/New_York:20271110T183000
DTEND;TZID=America/New_York:20271110T200000
LOCATION:Birdsong Brewing Co.\, 1016 N Davidson St\, Charlotte\, NC 28206 U
 S
SUMMARY:Charlotte Meetup
END:VEVENT
END:VCALENDAR
