BEGIN:VCALENDAR
VERSION:2.0
PRODID:-//www.hdreach.org//NONSGML kigkonsult.se iCalcreator 2.30.10//
CALSCALE:GREGORIAN
METHOD:PUBLISH
UID:8a911c84-1b6b-4f8f-9b70-119e19f46a92
X-WR-CALDESC:The Winston-Salem Making Connections In-person Meet-up will fa
 ll on the 2nd Wednesday of every month starting at 6pm. Come socialize\, l
 earn\, and connect with others in the HD community. Please register if you
  can\, however walk-ins are welcome.
X-WR-RELCALID:3326eba1bb35d0c18b73e4b2fa916700
X-WR-TIMEZONE:America/New_York
BEGIN:VTIMEZONE
TZID:America/New_York
BEGIN:STANDARD
TZNAME:EST
DTSTART:20271107T020000
TZOFFSETFROM:-0400
TZOFFSETTO:-0500
RDATE:20281105T020000
END:STANDARD
BEGIN:DAYLIGHT
TZNAME:EDT
DTSTART:20270314T020000
TZOFFSETFROM:-0500
TZOFFSETTO:-0400
RDATE:20280312T020000
RDATE:20290311T020000
END:DAYLIGHT
END:VTIMEZONE
BEGIN:VEVENT
UID:9a4baa25-2b28-4b98-828f-0250de4b2297
DTSTAMP:20260422T105422Z
DESCRIPTION:The Winston-Salem Making Connections In-person Meet-up will fal
 l on the 2nd Wednesday of every month starting at 6pm. Come socialize\, le
 arn\, and connect with others in the HD community. Please register if you 
 can\, however walk-ins are welcome.
DTSTART;TZID=America/New_York:20271110T180000
DTEND;TZID=America/New_York:20271110T200000
LOCATION:Fiddlin Fish\, 772 Trade St. NW\, Winston-Salem\, NC 27101 US
SUMMARY:Winston-Salem Meet-up
END:VEVENT
END:VCALENDAR
