BEGIN:VCALENDAR
VERSION:2.0
PRODID:-//www.hdreach.org//NONSGML kigkonsult.se iCalcreator 2.30.10//
CALSCALE:GREGORIAN
METHOD:PUBLISH
UID:0ead7179-d064-4bd2-9db6-17e4ae02a07a
X-WR-CALDESC:The Wilmington In-person Meet-up will fall on the 2nd Tuesday 
 of every month starting at 6pm. Come socialize\, learn\, and connect with 
 others in the HD community. Please register if you can\, however walk-ins 
 are welcome.
X-WR-RELCALID:3eab851663c28f1657c1fad518c2f621
X-WR-TIMEZONE:America/New_York
BEGIN:VTIMEZONE
TZID:America/New_York
BEGIN:STANDARD
TZNAME:EST
DTSTART:20261101T020000
TZOFFSETFROM:-0400
TZOFFSETTO:-0500
RDATE:20271107T020000
RDATE:20281105T020000
END:STANDARD
BEGIN:DAYLIGHT
TZNAME:EDT
DTSTART:20270314T020000
TZOFFSETFROM:-0500
TZOFFSETTO:-0400
RDATE:20280312T020000
RDATE:20290311T020000
END:DAYLIGHT
END:VTIMEZONE
BEGIN:VEVENT
UID:02f21bb3-805d-418c-bd49-606de2c8b96c
DTSTAMP:20260422T084014Z
DESCRIPTION:The Wilmington In-person Meet-up will fall on the 2nd Tuesday o
 f every month starting at 6pm. Come socialize\, learn\, and connect with o
 thers in the HD community. Please register if you can\, however walk-ins a
 re welcome.
DTSTART;TZID=America/New_York:20271012T180000
DTEND;TZID=America/New_York:20271012T200000
LOCATION:Mad Mole Brewing\, 6309 Boathouse Rd Unit C\, Wilmington\, NC 2840
 3 US
SUMMARY:Wilmington Meetup
END:VEVENT
END:VCALENDAR
