BEGIN:VCALENDAR
VERSION:2.0
PRODID:-//www.hdreach.org//NONSGML kigkonsult.se iCalcreator 2.30.10//
CALSCALE:GREGORIAN
METHOD:PUBLISH
UID:8ffd8e88-a3d0-4aa0-b4c1-fff1feb002bb
X-WR-CALDESC:
X-WR-RELCALID:04203e7ff0d653ed58032eb728682e57
X-WR-TIMEZONE:America/New_York
BEGIN:VTIMEZONE
TZID:America/New_York
BEGIN:STANDARD
TZNAME:EST
DTSTART:20261101T020000
TZOFFSETFROM:-0400
TZOFFSETTO:-0500
RDATE:20271107T020000
RDATE:20281105T020000
END:STANDARD
BEGIN:DAYLIGHT
TZNAME:EDT
DTSTART:20270314T020000
TZOFFSETFROM:-0500
TZOFFSETTO:-0400
RDATE:20280312T020000
END:DAYLIGHT
END:VTIMEZONE
BEGIN:VEVENT
UID:4528da7b-7a7c-4f8a-b98a-96a33cd3d5a3
DTSTAMP:20260422T042857Z
DESCRIPTION:
DTSTART;TZID=America/New_York:20270711T160000
DTEND;TZID=America/New_York:20270711T170000
LOCATION:70 N Main St\, Mars Theatre Brewing Co\, Mars Hill\, NC 28754 US
SUMMARY:Asheville Social Meet-up (On Pause)
END:VEVENT
END:VCALENDAR
