BEGIN:VCALENDAR
VERSION:2.0
PRODID:-//www.hdreach.org//NONSGML kigkonsult.se iCalcreator 2.30.10//
CALSCALE:GREGORIAN
METHOD:PUBLISH
UID:37945724-ee50-482f-86ab-dd4efae35c5c
X-WR-CALDESC:The Wilmington In-person Meet-up will fall on the 2nd Tuesday 
 of every month starting at 6pm. Come socialize\, learn\, and connect with 
 others in the HD community. Please register if you can\, however walk-ins 
 are welcome.
X-WR-RELCALID:8ccb77ce6640c48fad9272a944add025
X-WR-TIMEZONE:America/New_York
BEGIN:VTIMEZONE
TZID:America/New_York
BEGIN:STANDARD
TZNAME:EST
DTSTART:20261101T020000
TZOFFSETFROM:-0400
TZOFFSETTO:-0500
RDATE:20271107T020000
RDATE:20281105T020000
END:STANDARD
BEGIN:DAYLIGHT
TZNAME:EDT
DTSTART:20270314T020000
TZOFFSETFROM:-0500
TZOFFSETTO:-0400
RDATE:20280312T020000
END:DAYLIGHT
END:VTIMEZONE
BEGIN:VEVENT
UID:92f70596-5283-4b48-9c57-fcd6113a8d5c
DTSTAMP:20260422T013131Z
DESCRIPTION:The Wilmington In-person Meet-up will fall on the 2nd Tuesday o
 f every month starting at 6pm. Come socialize\, learn\, and connect with o
 thers in the HD community. Please register if you can\, however walk-ins a
 re welcome.
DTSTART;TZID=America/New_York:20270511T180000
DTEND;TZID=America/New_York:20270511T200000
LOCATION:Mad Mole Brewing\, 6309 Boathouse Rd Unit C\, Wilmington\, NC 2840
 3 US
SUMMARY:Wilmington Meetup
END:VEVENT
END:VCALENDAR
