BEGIN:VCALENDAR
VERSION:2.0
PRODID:-//www.hdreach.org//NONSGML kigkonsult.se iCalcreator 2.30.10//
CALSCALE:GREGORIAN
METHOD:PUBLISH
UID:cb4b1f2a-b960-4077-9a39-1c9f45723438
X-WR-CALDESC:The Winston-Salem Making Connections In-person Meet-up will fa
 ll on the 2nd Wednesday of every month starting at 6pm. Come socialize\, l
 earn\, and connect with others in the HD community. Please register if you
  can\, however walk-ins are welcome.
X-WR-RELCALID:c6f5ab58bcc47c85a286cf9aa4c250b7
X-WR-TIMEZONE:America/New_York
BEGIN:VTIMEZONE
TZID:America/New_York
BEGIN:STANDARD
TZNAME:EST
DTSTART:20261101T020000
TZOFFSETFROM:-0400
TZOFFSETTO:-0500
RDATE:20271107T020000
END:STANDARD
BEGIN:DAYLIGHT
TZNAME:EDT
DTSTART:20270314T020000
TZOFFSETFROM:-0500
TZOFFSETTO:-0400
RDATE:20280312T020000
END:DAYLIGHT
END:VTIMEZONE
BEGIN:VEVENT
UID:a6ef9cde-acd7-4601-8b54-36b37c91583e
DTSTAMP:20260422T000542Z
DESCRIPTION:The Winston-Salem Making Connections In-person Meet-up will fal
 l on the 2nd Wednesday of every month starting at 6pm. Come socialize\, le
 arn\, and connect with others in the HD community. Please register if you 
 can\, however walk-ins are welcome.
DTSTART;TZID=America/New_York:20270414T180000
DTEND;TZID=America/New_York:20270414T200000
LOCATION:Fiddlin Fish\, 772 Trade St. NW\, Winston-Salem\, NC 27101 US
SUMMARY:Winston-Salem Meet-up
END:VEVENT
END:VCALENDAR
