BEGIN:VCALENDAR
VERSION:2.0
PRODID:-//www.hdreach.org//NONSGML kigkonsult.se iCalcreator 2.30.10//
CALSCALE:GREGORIAN
METHOD:PUBLISH
UID:91a4374b-5d73-4b08-b55d-76fa6ecf5e0d
X-WR-CALDESC:Apply on the HD Bookclub webpage to be added to the book club 
 interest list and you will receive further instructions before the officia
 l start. We cannot wait to see you. To https://www.hdreach.org/connect-res
 ources/events/bookclub.html
X-WR-RELCALID:8bc0345ec339669d26f1463c6c1f19ae
X-WR-TIMEZONE:America/New_York
BEGIN:VTIMEZONE
TZID:America/New_York
BEGIN:STANDARD
TZNAME:EST
DTSTART:20261101T020000
TZOFFSETFROM:-0400
TZOFFSETTO:-0500
RDATE:20271107T020000
END:STANDARD
BEGIN:DAYLIGHT
TZNAME:EDT
DTSTART:20270314T020000
TZOFFSETFROM:-0500
TZOFFSETTO:-0400
RDATE:20280312T020000
END:DAYLIGHT
END:VTIMEZONE
BEGIN:VEVENT
UID:b02f341b-9684-4954-880b-f5684ea5f81e
DTSTAMP:20260422T002440Z
DESCRIPTION:Apply on the HD Bookclub webpage to be added to the book club i
 nterest list and you will receive further instructions before the official
  start. We cannot wait to see you. To https://www.hdreach.org/connect-reso
 urces/events/bookclub.html
DTSTART;TZID=America/New_York:20270406T180000
DTEND;TZID=America/New_York:20270406T190000
LOCATION:Zoom
SUMMARY:HD Bookclub
END:VEVENT
END:VCALENDAR
