BEGIN:VCALENDAR
VERSION:2.0
PRODID:-//www.hdreach.org//NONSGML kigkonsult.se iCalcreator 2.30.10//
CALSCALE:GREGORIAN
METHOD:PUBLISH
UID:a0b99895-1842-4671-a668-b1f37626a559
X-WR-CALDESC:To Apply please visit the Game Over HD webpage to be added to 
 the Game Over HD “lobby” and you will receive further instructions from Er
 ika. We cannot wait to see you. https://www.hdreach.org/connect-resources/
 events/game-over-hd.html
X-WR-RELCALID:3acd8ba679bb54dbbf45b218d3b91614
X-WR-TIMEZONE:America/New_York
BEGIN:VTIMEZONE
TZID:America/New_York
BEGIN:STANDARD
TZNAME:EST
DTSTART:20261101T020000
TZOFFSETFROM:-0400
TZOFFSETTO:-0500
RDATE:20271107T020000
END:STANDARD
BEGIN:DAYLIGHT
TZNAME:EDT
DTSTART:20260308T020000
TZOFFSETFROM:-0500
TZOFFSETTO:-0400
RDATE:20270314T020000
RDATE:20280312T020000
END:DAYLIGHT
END:VTIMEZONE
BEGIN:VEVENT
UID:c02f701f-f516-41ce-b68b-63e10ec2071f
DTSTAMP:20260421T192506Z
DESCRIPTION:To Apply please visit the Game Over HD webpage to be added to t
 he Game Over HD “lobby” and you will receive further instructions from Eri
 ka. We cannot wait to see you. https://www.hdreach.org/connect-resources/e
 vents/game-over-hd.html
DTSTART;TZID=America/New_York:20270120T190000
DTEND;TZID=America/New_York:20270120T200000
LOCATION:
SUMMARY:Game Over HD
END:VEVENT
END:VCALENDAR
