BEGIN:VCALENDAR
VERSION:2.0
PRODID:-//www.hdreach.org//NONSGML kigkonsult.se iCalcreator 2.30.10//
CALSCALE:GREGORIAN
METHOD:PUBLISH
UID:37d4c7c0-a37d-4cf4-b622-e4d483506bbb
X-WR-CALDESC:
X-WR-RELCALID:72cc48fdb319e1839f685ddc958bf0cb
X-WR-TIMEZONE:America/New_York
BEGIN:VTIMEZONE
TZID:America/New_York
BEGIN:STANDARD
TZNAME:EST
DTSTART:20251102T020000
TZOFFSETFROM:-0400
TZOFFSETTO:-0500
RDATE:20261101T020000
RDATE:20271107T020000
END:STANDARD
BEGIN:DAYLIGHT
TZNAME:EDT
DTSTART:20260308T020000
TZOFFSETFROM:-0500
TZOFFSETTO:-0400
RDATE:20270314T020000
RDATE:20280312T020000
END:DAYLIGHT
END:VTIMEZONE
BEGIN:VEVENT
UID:d466acaa-e588-4735-ba37-06b8353ffb79
DTSTAMP:20260421T134539Z
DESCRIPTION:
DTSTART;TZID=America/New_York:20260913T160000
DTEND;TZID=America/New_York:20260913T170000
LOCATION:70 N Main St\, Mars Theatre Brewing Co\, Mars Hill\, NC 28754 US
SUMMARY:Asheville Social Meet-up (On Pause)
END:VEVENT
END:VCALENDAR
