BEGIN:VCALENDAR
VERSION:2.0
PRODID:-//www.hdreach.org//NONSGML kigkonsult.se iCalcreator 2.30.10//
CALSCALE:GREGORIAN
METHOD:PUBLISH
UID:d1395930-345e-488d-9d00-e8bee7d2c0c7
X-WR-CALDESC:The Winston-Salem Making Connections In-person Meet-up will fa
 ll on the 2nd Wednesday of every month starting at 6pm. Come socialize\, l
 earn\, and connect with others in the HD community. Please register if you
  can\, however walk-ins are welcome.
X-WR-RELCALID:c7a44c33408efdcb67407aa619947538
X-WR-TIMEZONE:America/New_York
BEGIN:VTIMEZONE
TZID:America/New_York
BEGIN:STANDARD
TZNAME:EST
DTSTART:20251102T020000
TZOFFSETFROM:-0400
TZOFFSETTO:-0500
RDATE:20261101T020000
RDATE:20271107T020000
END:STANDARD
BEGIN:DAYLIGHT
TZNAME:EDT
DTSTART:20260308T020000
TZOFFSETFROM:-0500
TZOFFSETTO:-0400
RDATE:20270314T020000
END:DAYLIGHT
END:VTIMEZONE
BEGIN:VEVENT
UID:0de1c95d-8809-4a28-9247-429fd3288346
DTSTAMP:20260421T104506Z
DESCRIPTION:The Winston-Salem Making Connections In-person Meet-up will fal
 l on the 2nd Wednesday of every month starting at 6pm. Come socialize\, le
 arn\, and connect with others in the HD community. Please register if you 
 can\, however walk-ins are welcome.
DTSTART;TZID=America/New_York:20260708T180000
DTEND;TZID=America/New_York:20260708T200000
LOCATION:Fiddlin Fish\, 772 Trade St. NW\, Winston-Salem\, NC 27101 US
SUMMARY:Winston-Salem Meet-up
END:VEVENT
END:VCALENDAR
