BEGIN:VCALENDAR
VERSION:2.0
PRODID:-//www.hdreach.org//NONSGML kigkonsult.se iCalcreator 2.30.10//
CALSCALE:GREGORIAN
METHOD:PUBLISH
UID:ad041d3b-901e-43ed-afaa-378506d4833c
X-WR-CALDESC:
X-WR-RELCALID:91fd01c46e4515098221bcb8452e2010
X-WR-TIMEZONE:America/New_York
BEGIN:VTIMEZONE
TZID:America/New_York
BEGIN:STANDARD
TZNAME:EST
DTSTART:20251102T020000
TZOFFSETFROM:-0400
TZOFFSETTO:-0500
RDATE:20261101T020000
RDATE:20271107T020000
END:STANDARD
BEGIN:DAYLIGHT
TZNAME:EDT
DTSTART:20260308T020000
TZOFFSETFROM:-0500
TZOFFSETTO:-0400
RDATE:20270314T020000
END:DAYLIGHT
END:VTIMEZONE
BEGIN:VEVENT
UID:b36bec4c-3953-4122-8f61-ba47e5f4d23c
DTSTAMP:20260421T093735Z
DESCRIPTION:
DTSTART;TZID=America/New_York:20260614T160000
DTEND;TZID=America/New_York:20260614T170000
LOCATION:70 N Main St\, Mars Theatre Brewing Co\, Mars Hill\, NC 28754 US
SUMMARY:Asheville Social Meet-up (On Pause)
END:VEVENT
END:VCALENDAR
