BEGIN:VCALENDAR
VERSION:2.0
PRODID:-//www.hdreach.org//NONSGML kigkonsult.se iCalcreator 2.30.10//
CALSCALE:GREGORIAN
METHOD:PUBLISH
UID:c91f48c2-89ba-46b6-a7f0-9dab07b523b1
X-WR-CALDESC:The Winston-Salem Making Connections In-Person Meet-Up will be
  held on the 2nd Wednesday of every month at 6pm. Come socialize\, learn\,
  and connect with others in the HD community.\n\nWe’ll have free pizza\, s
 o come hungry! Plus\, to celebrate the season\, wear your best (or worst!)
  ugly holiday sweater.\n\nWe’re also excited to welcome special guest Mike
  Brooks\, who will be available to answer your financial planning question
 s.\n\nPlease register if you can winstonhowever\, walk-ins are always welc
 ome!
X-WR-RELCALID:d0425c6717c8b89df3b294d214e45791
X-WR-TIMEZONE:America/New_York
BEGIN:VTIMEZONE
TZID:America/New_York
BEGIN:STANDARD
TZNAME:EST
DTSTART:20251102T020000
TZOFFSETFROM:-0400
TZOFFSETTO:-0500
RDATE:20261101T020000
END:STANDARD
BEGIN:DAYLIGHT
TZNAME:EDT
DTSTART:20250309T020000
TZOFFSETFROM:-0500
TZOFFSETTO:-0400
RDATE:20260308T020000
RDATE:20270314T020000
END:DAYLIGHT
END:VTIMEZONE
BEGIN:VEVENT
UID:09f5ebc3-e91c-4e10-b12e-0cd3b0069aa4
DTSTAMP:20260421T122404Z
DESCRIPTION:The Winston-Salem Making Connections In-Person Meet-Up will be 
 held on the 2nd Wednesday of every month at 6pm. Come socialize\, learn\, 
 and connect with others in the HD community.\n\nWe’ll have free pizza\, so
  come hungry! Plus\, to celebrate the season\, wear your best (or worst!) 
 ugly holiday sweater.\n\nWe’re also excited to welcome special guest Mike 
 Brooks\, who will be available to answer your financial planning questions
 .\n\nPlease register if you can winstonhowever\, walk-ins are always welco
 me!
DTSTART;TZID=America/New_York:20251210T180000
DTEND;TZID=America/New_York:20251210T200000
LOCATION:Fiddlin Fish\, 772 Trade St. NW\, Winston-Salem\, NC 27101 US
SUMMARY:Winston-Salem Meet-up
END:VEVENT
END:VCALENDAR
