BEGIN:VCALENDAR
VERSION:2.0
PRODID:-//www.hdreach.org//NONSGML kigkonsult.se iCalcreator 2.30.10//
CALSCALE:GREGORIAN
METHOD:PUBLISH
UID:395593b4-b356-46f3-a955-7378a91ddd82
X-WR-CALDESC:
X-WR-RELCALID:24a225b21850f37ee5a02cfab915e854
X-WR-TIMEZONE:America/New_York
BEGIN:VTIMEZONE
TZID:America/New_York
BEGIN:STANDARD
TZNAME:EST
DTSTART:20251102T020000
TZOFFSETFROM:-0400
TZOFFSETTO:-0500
RDATE:20261101T020000
END:STANDARD
BEGIN:DAYLIGHT
TZNAME:EDT
DTSTART:20250309T020000
TZOFFSETFROM:-0500
TZOFFSETTO:-0400
RDATE:20260308T020000
RDATE:20270314T020000
END:DAYLIGHT
END:VTIMEZONE
BEGIN:VEVENT
UID:704f77c9-050e-4869-8cf7-243beedc6088
DTSTAMP:20260421T133955Z
DESCRIPTION:
DTSTART;TZID=America/New_York:20251114T110000
DTEND;TZID=America/New_York:20251114T130000
LOCATION:Pizza Greco\, 5089 Country Club Rd\, Winston-Salem\, AL 27104 US
SUMMARY:Winston-Salem Lunch Meet-up
END:VEVENT
END:VCALENDAR
