BEGIN:VCALENDAR
VERSION:2.0
PRODID:-//www.hdreach.org//NONSGML kigkonsult.se iCalcreator 2.30.10//
CALSCALE:GREGORIAN
METHOD:PUBLISH
UID:8e102066-4343-4c58-b523-164d55afe1ad
X-WR-CALDESC:
X-WR-RELCALID:7fe22fa4c5280639e967ab0ac9ab725c
X-WR-TIMEZONE:America/New_York
BEGIN:VTIMEZONE
TZID:America/New_York
BEGIN:STANDARD
TZNAME:EST
DTSTART:20251102T020000
TZOFFSETFROM:-0400
TZOFFSETTO:-0500
RDATE:20261101T020000
END:STANDARD
BEGIN:DAYLIGHT
TZNAME:EDT
DTSTART:20250309T020000
TZOFFSETFROM:-0500
TZOFFSETTO:-0400
RDATE:20260308T020000
RDATE:20270314T020000
END:DAYLIGHT
END:VTIMEZONE
BEGIN:VEVENT
UID:dd46af31-785a-4cf9-8751-f04253a8cfe7
DTSTAMP:20260421T134545Z
DESCRIPTION:
DTSTART;TZID=America/New_York:20251109T160000
DTEND;TZID=America/New_York:20251109T170000
LOCATION:70 N Main St\, Mars Theatre Brewing Co\, Mars Hill\, NC 28754 US
SUMMARY:Asheville Social Meet-up (On Pause)
END:VEVENT
END:VCALENDAR
