BEGIN:VCALENDAR
VERSION:2.0
PRODID:-//www.hdreach.org//NONSGML kigkonsult.se iCalcreator 2.30.10//
CALSCALE:GREGORIAN
METHOD:PUBLISH
UID:724d1a50-5c27-40ca-bb9b-b31e07b7d658
X-WR-CALDESC:Apply on the HD Bookclub webpage to be added to the book club 
 interest list and you will receive further instructions before the officia
 l start. We cannot wait to see you. To https://www.hdreach.org/connect-res
 ources/events/bookclub.html
X-WR-RELCALID:ea1c6f47cbdc54145b365d225651daab
X-WR-TIMEZONE:America/New_York
BEGIN:VTIMEZONE
TZID:America/New_York
BEGIN:STANDARD
TZNAME:EST
DTSTART:20241103T020000
TZOFFSETFROM:-0400
TZOFFSETTO:-0500
RDATE:20251102T020000
RDATE:20261101T020000
END:STANDARD
BEGIN:DAYLIGHT
TZNAME:EDT
DTSTART:20250309T020000
TZOFFSETFROM:-0500
TZOFFSETTO:-0400
RDATE:20260308T020000
RDATE:20270314T020000
END:DAYLIGHT
END:VTIMEZONE
BEGIN:VEVENT
UID:d2d22e67-7537-4b8a-abde-ccc546ed1897
DTSTAMP:20260421T151317Z
DESCRIPTION:Apply on the HD Bookclub webpage to be added to the book club i
 nterest list and you will receive further instructions before the official
  start. We cannot wait to see you. To https://www.hdreach.org/connect-reso
 urces/events/bookclub.html
DTSTART;TZID=America/New_York:20251007T180000
DTEND;TZID=America/New_York:20251007T190000
LOCATION:Zoom
SUMMARY:HD Bookclub
END:VEVENT
END:VCALENDAR
