BEGIN:VCALENDAR
VERSION:2.0
PRODID:-//www.hdreach.org//NONSGML kigkonsult.se iCalcreator 2.30.10//
CALSCALE:GREGORIAN
METHOD:PUBLISH
UID:be066184-a639-4e2e-a6a5-c5ffe1c2600d
X-WR-CALDESC:Microsoft Teams meeting\nJoin on your computer\, mobile app or
  room device\nMeeting ID: 274 334 232 492 \nPasscode: q9EG2S\nOr call in (
 audio only)\n+1 615-601-3460\,\,713214622#   United States\, Nashville\nPh
 one Conference ID: 713 214 622#
X-WR-RELCALID:b8405f7396ca9f0c70cc104b81f27db5
X-WR-TIMEZONE:America/New_York
BEGIN:VTIMEZONE
TZID:America/New_York
BEGIN:STANDARD
TZNAME:EST
DTSTART:20231105T020000
TZOFFSETFROM:-0400
TZOFFSETTO:-0500
RDATE:20241103T020000
END:STANDARD
BEGIN:DAYLIGHT
TZNAME:EDT
DTSTART:20240310T020000
TZOFFSETFROM:-0500
TZOFFSETTO:-0400
RDATE:20250309T020000
END:DAYLIGHT
END:VTIMEZONE
BEGIN:VEVENT
UID:b685c772-4f54-40d6-a647-2c29bc5c1e4e
DTSTAMP:20260420T084950Z
DESCRIPTION:Microsoft Teams meeting\nJoin on your computer\, mobile app or 
 room device\nMeeting ID: 274 334 232 492 \nPasscode: q9EG2S\nOr call in (a
 udio only)\n+1 615-601-3460\,\,713214622#   United States\, Nashville\nPho
 ne Conference ID: 713 214 622#
DTSTART;TZID=America/New_York:20240416T180000
DTEND;TZID=America/New_York:20240416T190000
LOCATION:https://nam12.safelinks.protection.outlook.com/ap/t-59584e83/?url=
 https%3A%2F%2Fteams.microsoft.com%2Fl%2Fmeetup-join%2F19%253a4mMCvEuiNJfI4
 o0Su3z5s4z0uM_5zDxqYEtyeorN7rA1%2540thread.tacv2%2F1671470544167%3Fcontext
 %3D%257b%2522Tid%2522%253a%2522ef575030-1424-4ed8-b83c-12c533d879ab%2522%2
 52c%2522Oid%2522%253a%2522a67e2d9f-d0c2-49da-9e91-fb91a7f7862c%2522%257d&d
 ata=05%7C01%7Ckyaworski%40hdreach.org%7C03a6d16ce9d14399a43b08dbcf10d4eb%7
 Cfeb61853e8804d7d9ce7144315839516%7C0%7C0%7C638331443456414526%7CUnknown%7
 CTWFpbGZsb3d8eyJWIjoiMC4wLjAwMDAiLCJQIjoiV2luMzIiLCJBTiI6Ik1haWwiLCJXVCI6M
 n0%3D%7C3000%7C%7C%7C&sdata=VjKKrkRa4w9T0zWsV%2FxZ0aHYYfybOhCN5%2BEPgQMXO%
 2F8%3D&reserved=0
SUMMARY:HD Happy Hour
END:VEVENT
END:VCALENDAR
