BEGIN:VCALENDAR
VERSION:2.0
PRODID:-//www.hdreach.org//NONSGML kigkonsult.se iCalcreator 2.30.10//
CALSCALE:GREGORIAN
METHOD:PUBLISH
UID:7b1f0788-91d7-4d95-ac40-e34486d72c27
X-WR-CALDESC:HD Reach is inviting you to a scheduled Zoom meeting.\n\nTopic
 : Asheville Meet-up\nTime: Mar 2\, 2024 11:00 AM Eastern Time (US and Cana
 da)\n\nJoin Zoom Meeting\nhttps://us06web.zoom.us/j/84628333545?pwd=fJAgX7
 F5LeaVlXpGQHMyGoGoJrkFPK.1\n\nMeeting ID: 846 2833 3545\nPasscode: 360083
 \n\n---\n\nOne tap mobile\n+13126266799\,\,84628333545#\,\,\,\,*360083# US
  (Chicago)\n+16468769923\,\,84628333545#\,\,\,\,*360083# US (New York)\n\n
 ---\n\nDial by your location\nâ€¢ +1 312 626 6799 US (Chicago)\nâ€¢ +1 646 876
  9923 US (New York)\nâ€¢ +1 646 931 3860 US\nâ€¢ +1 301 715 8592 US (Washingto
 n DC)\nâ€¢ +1 305 224 1968 US\nâ€¢ +1 309 205 3325 US\nâ€¢ +1 360 209 5623 US\nâ€¢
  +1 386 347 5053 US\nâ€¢ +1 408 638 0968 US (San Jose)\nâ€¢ +1 507 473 4847 US
 \nânâ +1 564 217 2000 US\nâ€¢ +1 669 444 9171 US\nâ€¢ +1 669 900 6833 US (San Jo
 se)\nâ€¢ +1 689 278 1000 US\nâ€¢ +1 719 359 4580 US\nâ€¢ +1 253 205 0468 US\nâ€¢ +
 1 253 215 8782 US (Tacoma)\nâ€¢ +1 346 248 7799 US (Houston)\n\nMeeting ID: 
 846 2833 3545\nPasscode: 360083\n\nFind your local number: https://us06web
 .zoom.us/u/kcR4jqmkL\n\n
X-WR-RELCALID:d64a6084c69fbc0808490e1b9d20acc2
X-WR-TIMEZONE:America/New_York
BEGIN:VTIMEZONE
TZID:America/New_York
BEGIN:STANDARD
TZNAME:EST
DTSTART:20231105T020000
TZOFFSETFROM:-0400
TZOFFSETTO:-0500
RDATE:20241103T020000
END:STANDARD
BEGIN:DAYLIGHT
TZNAME:EDT
DTSTART:20230312T020000
TZOFFSETFROM:-0500
TZOFFSETTO:-0400
RDATE:20240310T020000
RDATE:20250309T020000
END:DAYLIGHT
END:VTIMEZONE
BEGIN:VEVENT
UID:cedb6293-673a-4a07-bc22-2c1b26432250
DTSTAMP:20260422T101647Z
DESCRIPTION:HD Reach is inviting you to a scheduled Zoom meeting.\n\nTopic:
  Asheville Meet-up\nTime: Mar 2\, 2024 11:00 AM Eastern Time (US and Canad
 a)\n\nJoin Zoom Meeting\nhttps://us06web.zoom.us/j/84628333545?pwd=fJAgX7F
 5LeaVlXpGQHMyGoGoJrkFPK.1\n\nMeeting ID: 846 2833 3545\nPasscode: 360083\n
 \n---\n\nOne tap mobile\n+13126266799\,\,84628333545#\,\,\,\,*360083# US (
 Chicago)\n+16468769923\,\,84628333545#\,\,\,\,*360083# US (New York)\n\n--
 -\n\nDial by your location\nâ€¢ +1 312 626 6799 US (Chicago)\nâ€¢ +1 646 876 9
 923 US (New York)\nâ€¢ +1 646 931 3860 US\nâ€¢ +1 301 715 8592 US (Washington 
 DC)\nâ€¢ +1 305 224 1968 US\nâ€¢ +1 309 205 3325 US\nâ€¢ +1 360 209 5623 US\nâ€¢ +
 1 386 347 5053 US\nâ€¢ +1 408 638 0968 US (San Jose)\nâ€¢ +1 507 473 4847 US\n
 â€¢ +1 564 217 2000 US\nâ€¢ +1 669 444 9171 US\nâ€¢ +1 669 900 6833 US (San Jose
 )\nâ€¢ +1 689 278 1000 US\nâ€¢ +1 719 359 4580 US\nâ€¢ +1 253 205 0468 US\nâ€¢ +1 
 253 215 8782 US (Tacoma)\nâ€¢ +1 346 248 7799 US (Houston)\n\nMeeting ID: 84
 6 2833 3545\nPasscode: 360083\n\nFind your local number: https://us06web.z
 oom.us/u/kcR4jqmkL\n\n
DTSTART;TZID=America/New_York:20240302T110000
DTEND;TZID=America/New_York:20240302T130000
LOCATION:https://us06web.zoom.us/j/84628333545?pwd=fJAgX7F5LeaVlXpGQHMyGoGo
 JrkFPK.1
SUMMARY:Asheville Support Group
END:VEVENT
END:VCALENDAR
