BEGIN:VCALENDAR
VERSION:2.0
PRODID:-//www.hdreach.org//NONSGML kigkonsult.se iCalcreator 2.30.10//
CALSCALE:GREGORIAN
METHOD:PUBLISH
UID:77e53c89-fe57-4ed5-ad3d-c244d5946847
X-WR-CALDESC:HD SUPPORT GROUP CALL\nThursday at 12:30 pm ET LINK:\nhttps://
 PMDAlliance.zoom.us/j/769346544\n
X-WR-RELCALID:61d0bb3a65dc95d92ce0c8ca7fea523d
X-WR-TIMEZONE:America/New_York
BEGIN:VTIMEZONE
TZID:America/New_York
BEGIN:STANDARD
TZNAME:EST
DTSTART:20211107T020000
TZOFFSETFROM:-0400
TZOFFSETTO:-0500
RDATE:20221106T020000
RDATE:20231105T020000
END:STANDARD
BEGIN:DAYLIGHT
TZNAME:EDT
DTSTART:20220313T020000
TZOFFSETFROM:-0500
TZOFFSETTO:-0400
RDATE:20230312T020000
RDATE:20240310T020000
END:DAYLIGHT
END:VTIMEZONE
BEGIN:VEVENT
UID:2af135dd-0a54-4b25-a664-d79d98b86d35
DTSTAMP:20260421T081103Z
DESCRIPTION:HD SUPPORT GROUP CALL\nThursday at 12:30 pm ET LINK:\nhttps://P
 MDAlliance.zoom.us/j/769346544\n
DTSTART;TZID=America/New_York:20221103T123000
DTEND;TZID=America/New_York:20221103T133000
LOCATION:On-Line 'Virtual' Meeting
SUMMARY:HD SUPPORT GROUP CALL
END:VEVENT
END:VCALENDAR
