BEGIN:VCALENDAR
VERSION:2.0
PRODID:-//www.hdreach.org//NONSGML kigkonsult.se iCalcreator 2.30.10//
CALSCALE:GREGORIAN
METHOD:PUBLISH
UID:7358a598-6e68-4935-9605-720d4f8700d6
X-WR-CALDESC:This group is designed exclusively for the HD caregivers in ou
 r community and provides a separate space for connection and care. This gr
 oup is virtual so we welcome HD caregivers from all over the US.\n\nRegist
 er in advance for this meeting:\nhttps://zoom.us/meeting/register/tJYud-yo
 qD8rHdQcmUCyWZqfPphpmon2GoHd \n\n
X-WR-RELCALID:a420f5cbd406e92c288221684556dd12
X-WR-TIMEZONE:America/New_York
BEGIN:VTIMEZONE
TZID:America/New_York
BEGIN:STANDARD
TZNAME:EST
DTSTART:20211107T020000
TZOFFSETFROM:-0400
TZOFFSETTO:-0500
RDATE:20221106T020000
RDATE:20231105T020000
END:STANDARD
BEGIN:DAYLIGHT
TZNAME:EDT
DTSTART:20220313T020000
TZOFFSETFROM:-0500
TZOFFSETTO:-0400
RDATE:20230312T020000
END:DAYLIGHT
END:VTIMEZONE
BEGIN:VEVENT
UID:d0d67cbd-df1b-472b-8696-393d71a08adb
DTSTAMP:20260419T134346Z
DESCRIPTION:This group is designed exclusively for the HD caregivers in our
  community and provides a separate space for connection and care. This gro
 up is virtual so we welcome HD caregivers from all over the US.\n\nRegiste
 r in advance for this meeting:\nhttps://zoom.us/meeting/register/tJYud-yoq
 D8rHdQcmUCyWZqfPphpmon2GoHd \n\n
DTSTART;TZID=America/New_York:20220821T173000
DTEND;TZID=America/New_York:20220821T190000
LOCATION:https://zoom.us/meeting/register/tJYud-yoqD8rHdQcmUCyWZqfPphpmon2G
 oHd
SUMMARY:Caregiver Support Group
END:VEVENT
END:VCALENDAR
