BEGIN:VCALENDAR
VERSION:2.0
PRODID:-//www.hdreach.org//NONSGML kigkonsult.se iCalcreator 2.30.10//
CALSCALE:GREGORIAN
METHOD:PUBLISH
UID:4bf50772-f053-4a05-a75d-d81bce233d62
X-WR-CALDESC:Join us as we reconvene for Wilmington Meet-ups! Please regist
 er if you can\, however walk-ins are welcome.\n-We’ll be meeting in the So
 uth Meeting Room.\n-Street or covered parking available.\n-Elevators are a
 ccessible.
X-WR-RELCALID:fb7a0f08d12f8c741a3f18e9dda9b9d2
X-WR-TIMEZONE:America/New_York
BEGIN:VTIMEZONE
TZID:America/New_York
BEGIN:STANDARD
TZNAME:EST
DTSTART:20211107T020000
TZOFFSETFROM:-0400
TZOFFSETTO:-0500
RDATE:20221106T020000
RDATE:20231105T020000
END:STANDARD
BEGIN:DAYLIGHT
TZNAME:EDT
DTSTART:20220313T020000
TZOFFSETFROM:-0500
TZOFFSETTO:-0400
RDATE:20230312T020000
END:DAYLIGHT
END:VTIMEZONE
BEGIN:VEVENT
UID:8af11d27-3147-4476-8939-8adc7a1c1b7d
DTSTAMP:20260419T151427Z
DESCRIPTION:Join us as we reconvene for Wilmington Meet-ups! Please registe
 r if you can\, however walk-ins are welcome.\n-We’ll be meeting in the Sou
 th Meeting Room.\n-Street or covered parking available.\n-Elevators are ac
 cessible.
DTSTART;TZID=America/New_York:20220714T173000
DTEND;TZID=America/New_York:20220714T193000
LOCATION:South Meeting Room NHRMC Orthopedic Hospital  \, 3201 Wrightsville
  Avenue\, Wilmington\, NC 28403 US
SUMMARY:WIlmington Meet-up
END:VEVENT
END:VCALENDAR
