BEGIN:VCALENDAR
VERSION:2.0
PRODID:-//www.hdreach.org//NONSGML kigkonsult.se iCalcreator 2.30.10//
CALSCALE:GREGORIAN
METHOD:PUBLISH
UID:4b26e70a-f748-4df4-972c-03ff092ef3ec
X-WR-CALDESC:Irritability is one of the earliest and most common symptoms o
 f HD. It can also be one of the most challenging symptoms to deal with. Jo
 in HD Reach's Irritability Chats where an HD expert and other members of t
 he HD community can answer questions\, share strategies\, and offer educat
 ion on this tough subject.
X-WR-RELCALID:17f22bdaba22dfbaa60959ab5eecf8bb
X-WR-TIMEZONE:America/New_York
BEGIN:VTIMEZONE
TZID:America/New_York
BEGIN:STANDARD
TZNAME:EST
DTSTART:20211107T020000
TZOFFSETFROM:-0400
TZOFFSETTO:-0500
RDATE:20221106T020000
RDATE:20231105T020000
END:STANDARD
BEGIN:DAYLIGHT
TZNAME:EDT
DTSTART:20220313T020000
TZOFFSETFROM:-0500
TZOFFSETTO:-0400
RDATE:20230312T020000
END:DAYLIGHT
END:VTIMEZONE
BEGIN:VEVENT
UID:0485689d-3257-4f50-b22f-052bb77a9f62
DTSTAMP:20260419T151616Z
DESCRIPTION:Irritability is one of the earliest and most common symptoms of
  HD. It can also be one of the most challenging symptoms to deal with. Joi
 n HD Reach's Irritability Chats where an HD expert and other members of th
 e HD community can answer questions\, share strategies\, and offer educati
 on on this tough subject.
DTSTART;TZID=America/New_York:20220714T120000
DTEND;TZID=America/New_York:20220714T133000
LOCATION:https://www.eventbrite.com/e/road-rage-calming-irritability-ticket
 s-358720160657
SUMMARY:Road Rage: Calming Irritability Workshop
END:VEVENT
END:VCALENDAR
