BEGIN:VCALENDAR
VERSION:2.0
PRODID:-//www.hdreach.org//NONSGML kigkonsult.se iCalcreator 2.30.10//
CALSCALE:GREGORIAN
METHOD:PUBLISH
UID:d73ff48c-5b7a-4ca4-9d46-95314eefd40d
X-WR-CALDESC:Join us as we reconvene for Triad Meet-ups! Please register if
  you can\, however walk-ins are welcome.\n-We’ll be meeting in the Dudley 
 Room located on the 3rd floor.\n-Street or covered parking available.\n-El
 evators are accessible for those that choose to park in the library’s park
 ing deck under the library.
X-WR-RELCALID:ca964427eb8a000758a77576b9136e20
X-WR-TIMEZONE:America/New_York
BEGIN:VTIMEZONE
TZID:America/New_York
BEGIN:STANDARD
TZNAME:EST
DTSTART:20211107T020000
TZOFFSETFROM:-0400
TZOFFSETTO:-0500
RDATE:20221106T020000
RDATE:20231105T020000
END:STANDARD
BEGIN:DAYLIGHT
TZNAME:EDT
DTSTART:20220313T020000
TZOFFSETFROM:-0500
TZOFFSETTO:-0400
RDATE:20230312T020000
END:DAYLIGHT
END:VTIMEZONE
BEGIN:VEVENT
UID:0d1235bb-3408-4399-8f02-7b25cc4a8a9c
DTSTAMP:20260419T183530Z
DESCRIPTION:Join us as we reconvene for Triad Meet-ups! Please register if 
 you can\, however walk-ins are welcome.\n-We’ll be meeting in the Dudley R
 oom located on the 3rd floor.\n-Street or covered parking available.\n-Ele
 vators are accessible for those that choose to park in the library’s parki
 ng deck under the library.
DTSTART;TZID=America/New_York:20220526T153000
DTEND;TZID=America/New_York:20220526T170000
LOCATION:The Winston-Salem Central Library\, The Dudley Room (3rd Floor)\, 
 660 West Fifth Street \, Winston-Salem\, NC 27101 US
SUMMARY:Triad Meet-up
END:VEVENT
END:VCALENDAR
