BEGIN:VCALENDAR
VERSION:2.0
PRODID:-//www.hdreach.org//NONSGML kigkonsult.se iCalcreator 2.30.10//
CALSCALE:GREGORIAN
METHOD:PUBLISH
UID:35785c56-2a69-49cb-bb1f-783afc4325e1
X-WR-CALDESC:
X-WR-RELCALID:b874d6bdd0afec5b4405d138356fe577
X-WR-TIMEZONE:America/New_York
BEGIN:VTIMEZONE
TZID:America/New_York
BEGIN:STANDARD
TZNAME:EST
DTSTART:20211107T020000
TZOFFSETFROM:-0400
TZOFFSETTO:-0500
RDATE:20221106T020000
RDATE:20231105T020000
END:STANDARD
BEGIN:DAYLIGHT
TZNAME:EDT
DTSTART:20220313T020000
TZOFFSETFROM:-0500
TZOFFSETTO:-0400
RDATE:20230312T020000
END:DAYLIGHT
END:VTIMEZONE
BEGIN:VEVENT
UID:c8472207-858b-4eff-a586-fbbf9c6cbf34
DTSTAMP:20260419T182329Z
DESCRIPTION:
DTSTART;TZID=America/New_York:20220515T100000
DTEND;TZID=America/New_York:20220515T140000
LOCATION:
SUMMARY:The Road Ahead Community Event
END:VEVENT
END:VCALENDAR
