BEGIN:VCALENDAR
VERSION:2.0
PRODID:-//www.hdreach.org//NONSGML kigkonsult.se iCalcreator 2.30.10//
CALSCALE:GREGORIAN
METHOD:PUBLISH
UID:3f241693-3091-4edb-85f1-4e8ec689f6ae
X-WR-CALDESC:An HD support group held in Charleston\, South Carolina that m
 eets the second Saturday of each month from 10:00 to 11:30 at the MUSC Hea
 lth East Cooper Facility at 1600 Midtown Ave.\, Mount Pleasant\, SC 29464.
X-WR-RELCALID:8f4a318d29ad518581a202fca694005f
X-WR-TIMEZONE:America/New_York
BEGIN:VTIMEZONE
TZID:America/New_York
BEGIN:STANDARD
TZNAME:EST
DTSTART:20211107T020000
TZOFFSETFROM:-0400
TZOFFSETTO:-0500
RDATE:20221106T020000
END:STANDARD
BEGIN:DAYLIGHT
TZNAME:EDT
DTSTART:20220313T020000
TZOFFSETFROM:-0500
TZOFFSETTO:-0400
RDATE:20230312T020000
END:DAYLIGHT
END:VTIMEZONE
BEGIN:VEVENT
UID:ee27a05d-db56-4355-9ab6-8539e89767d8
DTSTAMP:20260419T201406Z
DESCRIPTION:An HD support group held in Charleston\, South Carolina that me
 ets the second Saturday of each month from 10:00 to 11:30 at the MUSC Heal
 th East Cooper Facility at 1600 Midtown Ave.\, Mount Pleasant\, SC 29464.
DTSTART;TZID=America/New_York:20220409T100000
DTEND;TZID=America/New_York:20220409T113000
LOCATION:MUSC Health East Cooper Facility at 1600 Midtown Ave.\, Mount Plea
 sant\, SC 29464
SUMMARY:Charleston HD Support Group
END:VEVENT
END:VCALENDAR
