BEGIN:VCALENDAR
VERSION:2.0
PRODID:-//www.hdreach.org//NONSGML kigkonsult.se iCalcreator 2.30.10//
CALSCALE:GREGORIAN
METHOD:PUBLISH
UID:3ab6ee09-b8fe-4970-a67e-04be55d97317
X-WR-CALDESC:An HD support group held in Charleston\, South Carolina that m
 eets the second Saturday of each month from 10:00 to 11:30 at the MUSC Hea
 lth East Cooper Facility at 1600 Midtown Ave.\, Mount Pleasant\, SC 29464.
X-WR-RELCALID:fb211e0f004836a8baae474862659130
X-WR-TIMEZONE:America/New_York
BEGIN:VTIMEZONE
TZID:America/New_York
BEGIN:STANDARD
TZNAME:EST
DTSTART:20211107T020000
TZOFFSETFROM:-0400
TZOFFSETTO:-0500
RDATE:20221106T020000
END:STANDARD
BEGIN:DAYLIGHT
TZNAME:EDT
DTSTART:20210314T020000
TZOFFSETFROM:-0500
TZOFFSETTO:-0400
RDATE:20220313T020000
RDATE:20230312T020000
END:DAYLIGHT
END:VTIMEZONE
BEGIN:VEVENT
UID:3244973f-05a1-4a7d-a85e-08f0f5bf669e
DTSTAMP:20260419T215409Z
DESCRIPTION:An HD support group held in Charleston\, South Carolina that me
 ets the second Saturday of each month from 10:00 to 11:30 at the MUSC Heal
 th East Cooper Facility at 1600 Midtown Ave.\, Mount Pleasant\, SC 29464.
DTSTART;TZID=America/New_York:20220312T100000
DTEND;TZID=America/New_York:20220312T113000
LOCATION:MUSC Health East Cooper Facility at 1600 Midtown Ave.\, Mount Plea
 sant\, SC 29464
SUMMARY:Charleston HD Support Group
END:VEVENT
END:VCALENDAR
