BEGIN:VCALENDAR
VERSION:2.0
PRODID:-//www.hdreach.org//NONSGML kigkonsult.se iCalcreator 2.30.10//
CALSCALE:GREGORIAN
METHOD:PUBLISH
UID:e4fb2ece-3d5a-4ee0-aee0-599337ca2b6c
X-WR-CALDESC:This group is designed exclusively for the HD caregivers in ou
 r community and provides a separate space for connection and care. This gr
 oup is virtual so we welcome HD caregivers from all over the US.\n\nRegist
 er in advance for this meeting:\nhttps://us06web.zoom.us/j/84193912535?pwd
 =dDZmWC9MQ1pGbjBsa3BzZytIb3hNdz09\n\n
X-WR-RELCALID:8336e1c8960514375ad538923e4e9ea6
X-WR-TIMEZONE:America/New_York
BEGIN:VTIMEZONE
TZID:America/New_York
BEGIN:STANDARD
TZNAME:EST
DTSTART:20211107T020000
TZOFFSETFROM:-0400
TZOFFSETTO:-0500
RDATE:20221106T020000
END:STANDARD
BEGIN:DAYLIGHT
TZNAME:EDT
DTSTART:20210314T020000
TZOFFSETFROM:-0500
TZOFFSETTO:-0400
RDATE:20220313T020000
RDATE:20230312T020000
END:DAYLIGHT
END:VTIMEZONE
BEGIN:VEVENT
UID:a2f8b60e-bc69-46f8-b9f2-4e4dafb83b0e
DTSTAMP:20260419T231402Z
DESCRIPTION:This group is designed exclusively for the HD caregivers in our
  community and provides a separate space for connection and care. This gro
 up is virtual so we welcome HD caregivers from all over the US.\n\nRegiste
 r in advance for this meeting:\nhttps://us06web.zoom.us/j/84193912535?pwd=
 dDZmWC9MQ1pGbjBsa3BzZytIb3hNdz09\n\n
DTSTART;TZID=America/New_York:20220220T173000
DTEND;TZID=America/New_York:20220220T190000
LOCATION:https://us06web.zoom.us/j/84193912535?pwd=dDZmWC9MQ1pGbjBsa3BzZytI
 b3hNdz09
SUMMARY:Caregiver Support Group
END:VEVENT
END:VCALENDAR
