BEGIN:VCALENDAR
VERSION:2.0
PRODID:-//www.hdreach.org//NONSGML kigkonsult.se iCalcreator 2.30.10//
CALSCALE:GREGORIAN
METHOD:PUBLISH
UID:eefb2ce1-fdfe-4d35-8216-7d231aecb2d0
X-WR-CALDESC:This group is designed exclusively for the HD caregivers in ou
 r community and provides a separate space for connection and care. This gr
 oup is virtual so we welcome HD caregivers from all over the US.\n\nRegist
 er in advance for this meeting:\nhttps://us06web.zoom.us/meeting/register/
 tZEuceygqjIsHNyLMH313Ts01HzGGdmztZ7X \n\n\n\n
X-WR-RELCALID:92571f1b0e46f7d8e427e71a76641320
X-WR-TIMEZONE:America/New_York
BEGIN:VTIMEZONE
TZID:America/New_York
BEGIN:STANDARD
TZNAME:EST
DTSTART:20211107T020000
TZOFFSETFROM:-0400
TZOFFSETTO:-0500
RDATE:20221106T020000
END:STANDARD
BEGIN:DAYLIGHT
TZNAME:EDT
DTSTART:20210314T020000
TZOFFSETFROM:-0500
TZOFFSETTO:-0400
RDATE:20220313T020000
RDATE:20230312T020000
END:DAYLIGHT
END:VTIMEZONE
BEGIN:VEVENT
UID:f40e68e2-d4f7-4cd9-aaa5-c19ba54ab173
DTSTAMP:20260420T033957Z
DESCRIPTION:This group is designed exclusively for the HD caregivers in our
  community and provides a separate space for connection and care. This gro
 up is virtual so we welcome HD caregivers from all over the US.\n\nRegiste
 r in advance for this meeting:\nhttps://us06web.zoom.us/meeting/register/t
 ZEuceygqjIsHNyLMH313Ts01HzGGdmztZ7X \n\n\n\n
DTSTART;TZID=America/New_York:20211121T173000
DTEND;TZID=America/New_York:20211121T190000
LOCATION:https://us06web.zoom.us/meeting/register/tZEuceygqjIsHNyLMH313Ts01
 HzGGdmztZ7X
SUMMARY:Caregiver Support Group
END:VEVENT
END:VCALENDAR
