BEGIN:VCALENDAR
VERSION:2.0
PRODID:-//www.hdreach.org//NONSGML kigkonsult.se iCalcreator 2.30.10//
CALSCALE:GREGORIAN
METHOD:PUBLISH
UID:e84f9327-91c7-44a2-bba7-1b0e584e1733
X-WR-CALDESC:HD SUPPORT GROUP CALL\nThursday at 12:30 pm ET LINK:\nhttps://
 PMDAlliance.zoom.us/j/769346544\n
X-WR-RELCALID:5d9caa7a0dd755f8c793dc06f76ca3e7
X-WR-TIMEZONE:America/New_York
BEGIN:VTIMEZONE
TZID:America/New_York
BEGIN:STANDARD
TZNAME:EST
DTSTART:20211107T020000
TZOFFSETFROM:-0400
TZOFFSETTO:-0500
RDATE:20221106T020000
END:STANDARD
BEGIN:DAYLIGHT
TZNAME:EDT
DTSTART:20210314T020000
TZOFFSETFROM:-0500
TZOFFSETTO:-0400
RDATE:20220313T020000
RDATE:20230312T020000
END:DAYLIGHT
END:VTIMEZONE
BEGIN:VEVENT
UID:c8af01ba-9f52-4700-a24c-37c1000fa6ea
DTSTAMP:20260420T033210Z
DESCRIPTION:HD SUPPORT GROUP CALL\nThursday at 12:30 pm ET LINK:\nhttps://P
 MDAlliance.zoom.us/j/769346544\n
DTSTART;TZID=America/New_York:20211104T123000
DTEND;TZID=America/New_York:20211104T133000
LOCATION:On-Line 'Virtual' Meeting
SUMMARY:HD SUPPORT GROUP CALL
END:VEVENT
END:VCALENDAR
