BEGIN:VCALENDAR
VERSION:2.0
PRODID:-//www.hdreach.org//NONSGML kigkonsult.se iCalcreator 2.30.10//
CALSCALE:GREGORIAN
METHOD:PUBLISH
UID:db66e13d-7fce-4206-a6c3-9a715ea287fe
X-WR-CALDESC:An HD support group held in Charleston\, South Carolina that m
 eets the second Saturday of each month from 10:00 to 11:30 at the MUSC Hea
 lth East Cooper Facility at 1600 Midtown Ave.\, Mount Pleasant\, SC 29464.
X-WR-RELCALID:84f9556e4e24301475994a602b0cca04
X-WR-TIMEZONE:America/New_York
BEGIN:VTIMEZONE
TZID:America/New_York
BEGIN:STANDARD
TZNAME:EST
DTSTART:20201101T020000
TZOFFSETFROM:-0400
TZOFFSETTO:-0500
RDATE:20211107T020000
RDATE:20221106T020000
END:STANDARD
BEGIN:DAYLIGHT
TZNAME:EDT
DTSTART:20210314T020000
TZOFFSETFROM:-0500
TZOFFSETTO:-0400
RDATE:20220313T020000
RDATE:20230312T020000
END:DAYLIGHT
END:VTIMEZONE
BEGIN:VEVENT
UID:ef1db9ff-d78f-4939-8805-20a8a83a55e7
DTSTAMP:20260420T051110Z
DESCRIPTION:An HD support group held in Charleston\, South Carolina that me
 ets the second Saturday of each month from 10:00 to 11:30 at the MUSC Heal
 th East Cooper Facility at 1600 Midtown Ave.\, Mount Pleasant\, SC 29464.
DTSTART;TZID=America/New_York:20211009T100000
DTEND;TZID=America/New_York:20211009T113000
LOCATION:MUSC Health East Cooper Facility at 1600 Midtown Ave.\, Mount Plea
 sant\, SC 29464
SUMMARY:Charleston HD Support Group
END:VEVENT
END:VCALENDAR
