BEGIN:VCALENDAR
VERSION:2.0
PRODID:-//www.hdreach.org//NONSGML kigkonsult.se iCalcreator 2.30.10//
CALSCALE:GREGORIAN
METHOD:PUBLISH
UID:49d23c8f-f048-483c-9c13-532c17d1d501
X-WR-CALDESC:HD SUPPORT GROUP CALL\nThursday at 12:30 pm ET LINK:\nhttps://
 PMDAlliance.zoom.us/j/769346544\n
X-WR-RELCALID:2d790a67b453b269ae6d5a77c10a4d21
X-WR-TIMEZONE:America/New_York
BEGIN:VTIMEZONE
TZID:America/New_York
BEGIN:STANDARD
TZNAME:EST
DTSTART:20201101T020000
TZOFFSETFROM:-0400
TZOFFSETTO:-0500
RDATE:20211107T020000
RDATE:20221106T020000
END:STANDARD
BEGIN:DAYLIGHT
TZNAME:EDT
DTSTART:20210314T020000
TZOFFSETFROM:-0500
TZOFFSETTO:-0400
RDATE:20220313T020000
END:DAYLIGHT
END:VTIMEZONE
BEGIN:VEVENT
UID:50278bc4-dc98-443b-bb8e-ea4ab797f86b
DTSTAMP:20260420T065052Z
DESCRIPTION:HD SUPPORT GROUP CALL\nThursday at 12:30 pm ET LINK:\nhttps://P
 MDAlliance.zoom.us/j/769346544\n
DTSTART;TZID=America/New_York:20210902T123000
DTEND;TZID=America/New_York:20210902T133000
LOCATION:On-Line 'Virtual' Meeting
SUMMARY:HD SUPPORT GROUP CALL
END:VEVENT
END:VCALENDAR
