BEGIN:VCALENDAR
VERSION:2.0
PRODID:-//www.hdreach.org//NONSGML kigkonsult.se iCalcreator 2.30.10//
CALSCALE:GREGORIAN
METHOD:PUBLISH
UID:ca1e8693-4f74-4265-a0a4-7a0341830ae3
X-WR-CALDESC:An HD support group held in Charleston\, South Carolina that m
 eets the second Saturday of each month from 10:00 to 11:30 at the MUSC Hea
 lth East Cooper Facility at 1600 Midtown Ave.\, Mount Pleasant\, SC 29464.
X-WR-RELCALID:7e3e88bc06302c682cfb426d5284474d
X-WR-TIMEZONE:America/New_York
BEGIN:VTIMEZONE
TZID:America/New_York
BEGIN:STANDARD
TZNAME:EST
DTSTART:20201101T020000
TZOFFSETFROM:-0400
TZOFFSETTO:-0500
RDATE:20211107T020000
END:STANDARD
BEGIN:DAYLIGHT
TZNAME:EDT
DTSTART:20200308T020000
TZOFFSETFROM:-0500
TZOFFSETTO:-0400
RDATE:20210314T020000
RDATE:20220313T020000
END:DAYLIGHT
END:VTIMEZONE
BEGIN:VEVENT
UID:f82111ca-7e4b-43f3-8756-a974f94370c4
DTSTAMP:20260420T190712Z
DESCRIPTION:An HD support group held in Charleston\, South Carolina that me
 ets the second Saturday of each month from 10:00 to 11:30 at the MUSC Heal
 th East Cooper Facility at 1600 Midtown Ave.\, Mount Pleasant\, SC 29464.
DTSTART;TZID=America/New_York:20210109T100000
DTEND;TZID=America/New_York:20210109T113000
LOCATION:MUSC Health East Cooper Facility at 1600 Midtown Ave.\, Mount Plea
 sant\, SC 29464
SUMMARY:Charleston HD Support Group
END:VEVENT
END:VCALENDAR
