BEGIN:VCALENDAR
VERSION:2.0
PRODID:-//www.hdreach.org//NONSGML kigkonsult.se iCalcreator 2.30.10//
CALSCALE:GREGORIAN
METHOD:PUBLISH
UID:b7e8d7c8-d113-4bfc-8df8-13a75c665f2b
X-WR-CALDESC:Join Zoom Meeting\nhttps://zoom.us/j/96376648518?pwd=N2lHRHMzc
 mtwYUlteWZmb3J1NWk3dz09\n\nMeeting ID: 963 7664 8518\nPassword: 237817\nOn
 e tap mobile\n+13017158592\,\,96376648518#\,\,\,\,0#\,\,237817# US (German
 town) \n+13126266799\,\,96376648518#\,\,\,\,0#\,\,237817# US (Chicago)\n\n
 Dial by your location\n        +1 301 715 8592 US (Germantown)\n        +1
  312 626 6799 US (Chicago)\n        +1 646 876 9923 US (New York)\n       
  +1 408 638 0968 US (San Jose)\n        +1 669 900 6833 US (San Jose)\n   
      +1 253 215 8782 US (Tacoma)\n        +1 346 248 7799 US (Houston)\nMe
 eting ID: 963 7664 8518\nPassword: 237817\nFind your local number: https:/
 /zoom.us/u/abkkFSu5HF\n
X-WR-RELCALID:300d44a6d77f6f6f9687469730adc8d3
X-WR-TIMEZONE:America/New_York
BEGIN:VTIMEZONE
TZID:America/New_York
BEGIN:STANDARD
TZNAME:EST
DTSTART:20201101T020000
TZOFFSETFROM:-0400
TZOFFSETTO:-0500
RDATE:20211107T020000
END:STANDARD
BEGIN:DAYLIGHT
TZNAME:EDT
DTSTART:20200308T020000
TZOFFSETFROM:-0500
TZOFFSETTO:-0400
RDATE:20210314T020000
RDATE:20220313T020000
END:DAYLIGHT
END:VTIMEZONE
BEGIN:VEVENT
UID:2ad26869-f5da-4346-9e54-8b82f3108fcf
DTSTAMP:20260421T001837Z
DESCRIPTION:Join Zoom Meeting\nhttps://zoom.us/j/96376648518?pwd=N2lHRHMzcm
 twYUlteWZmb3J1NWk3dz09\n\nMeeting ID: 963 7664 8518\nPassword: 237817\nOne
  tap mobile\n+13017158592\,\,96376648518#\,\,\,\,0#\,\,237817# US (Germant
 own) \n+13126266799\,\,96376648518#\,\,\,\,0#\,\,237817# US (Chicago)\n\nD
 ial by your location\n        +1 301 715 8592 US (Germantown)\n        +1 
 312 626 6799 US (Chicago)\n        +1 646 876 9923 US (New York)\n        
 +1 408 638 0968 US (San Jose)\n        +1 669 900 6833 US (San Jose)\n    
     +1 253 215 8782 US (Tacoma)\n        +1 346 248 7799 US (Houston)\nMee
 ting ID: 963 7664 8518\nPassword: 237817\nFind your local number: https://
 zoom.us/u/abkkFSu5HF\n
DTSTART;TZID=America/New_York:20201201T153000
DTEND;TZID=America/New_York:20201201T173000
LOCATION:Virtual
SUMMARY:Triad HD Reach HDSA SG
END:VEVENT
END:VCALENDAR
