BEGIN:VCALENDAR
VERSION:2.0
PRODID:-//www.hdreach.org//NONSGML kigkonsult.se iCalcreator 2.30.10//
CALSCALE:GREGORIAN
METHOD:PUBLISH
UID:5ec11f7d-de33-48d9-bd34-0d0d364d49fc
X-WR-CALDESC:HDSA NC Virtual Education Day\n\nSaturday\, September 19\, 202
 0\n9:30am – 11:30 pm EST and 2:00 - 4:30pm EST\n\nTOPICS INCLUDE:\nResearc
 h\, Genetics\, Movement and Mindfulness\nSPEAKERS INCLUDE:\nGeorge Yohling
 \, PhD\, HDSA\nAnthony Martinez\, PhD\nMcKenzie Luxmore\, RN Duke\nJon Ses
 kevich\, RN\n\nWebsite for registration (FREE) http://northcarolina.hdsa.o
 rg/educationday
X-WR-RELCALID:6a72a46aec8c7afb6a4c94c882fd7038
X-WR-TIMEZONE:America/New_York
BEGIN:VTIMEZONE
TZID:America/New_York
BEGIN:STANDARD
TZNAME:EST
DTSTART:20191103T020000
TZOFFSETFROM:-0400
TZOFFSETTO:-0500
RDATE:20201101T020000
RDATE:20211107T020000
END:STANDARD
BEGIN:DAYLIGHT
TZNAME:EDT
DTSTART:20200308T020000
TZOFFSETFROM:-0500
TZOFFSETTO:-0400
RDATE:20210314T020000
RDATE:20220313T020000
END:DAYLIGHT
END:VTIMEZONE
BEGIN:VEVENT
UID:cf0580d9-4ff0-46a6-92d3-84d8fb014cb7
DTSTAMP:20260421T044650Z
DESCRIPTION:HDSA NC Virtual Education Day\n\nSaturday\, September 19\, 2020
 \n9:30am – 11:30 pm EST and 2:00 - 4:30pm EST\n\nTOPICS INCLUDE:\nResearch
 \, Genetics\, Movement and Mindfulness\nSPEAKERS INCLUDE:\nGeorge Yohling\
 , PhD\, HDSA\nAnthony Martinez\, PhD\nMcKenzie Luxmore\, RN Duke\nJon Sesk
 evich\, RN\n\nWebsite for registration (FREE) http://northcarolina.hdsa.or
 g/educationday
DTSTART;TZID=America/New_York:20200919T093000
DTEND;TZID=America/New_York:20200919T163000
LOCATION:Virtual
SUMMARY:HDSA NC Virtual Education Day
END:VEVENT
END:VCALENDAR
