BEGIN:VCALENDAR
VERSION:2.0
PRODID:-//www.hdreach.org//NONSGML kigkonsult.se iCalcreator 2.30.10//
CALSCALE:GREGORIAN
METHOD:PUBLISH
UID:1d14d2c2-949a-42c0-8dec-8ffa102ef7eb
X-WR-CALDESC:HD SUPPORT GROUP CALL\nThursday at 12:30 pm ET LINK:\nhttps://
 PMDAlliance.zoom.us/j/769346544\n
X-WR-RELCALID:d91eec7ab15de0a14a9ac0a20735c528
X-WR-TIMEZONE:America/New_York
BEGIN:VTIMEZONE
TZID:America/New_York
BEGIN:STANDARD
TZNAME:EST
DTSTART:20191103T020000
TZOFFSETFROM:-0400
TZOFFSETTO:-0500
RDATE:20201101T020000
RDATE:20211107T020000
END:STANDARD
BEGIN:DAYLIGHT
TZNAME:EDT
DTSTART:20200308T020000
TZOFFSETFROM:-0500
TZOFFSETTO:-0400
RDATE:20210314T020000
RDATE:20220313T020000
END:DAYLIGHT
END:VTIMEZONE
BEGIN:VEVENT
UID:04ca4be9-f5b0-4ec0-bb32-119094464259
DTSTAMP:20260421T044717Z
DESCRIPTION:HD SUPPORT GROUP CALL\nThursday at 12:30 pm ET LINK:\nhttps://P
 MDAlliance.zoom.us/j/769346544\n
DTSTART;TZID=America/New_York:20200917T123000
DTEND;TZID=America/New_York:20200917T133000
LOCATION:On-Line 'Virtual' Meeting
SUMMARY:HD SUPPORT GROUP CALL
END:VEVENT
END:VCALENDAR
