BEGIN:VCALENDAR
VERSION:2.0
PRODID:-//www.hdreach.org//NONSGML kigkonsult.se iCalcreator 2.30.10//
CALSCALE:GREGORIAN
METHOD:PUBLISH
UID:43b25555-fad0-44ce-b40e-6f21aa1ef16c
X-WR-CALDESC:HD SUPPORT GROUP CALL\nThursday at 12:30 pm ET LINK:\nhttps://
 PMDAlliance.zoom.us/j/769346544\n
X-WR-RELCALID:cb536c98bd251e817915bd6073fda369
X-WR-TIMEZONE:America/New_York
BEGIN:VTIMEZONE
TZID:America/New_York
BEGIN:STANDARD
TZNAME:EST
DTSTART:20191103T020000
TZOFFSETFROM:-0400
TZOFFSETTO:-0500
RDATE:20201101T020000
RDATE:20211107T020000
END:STANDARD
BEGIN:DAYLIGHT
TZNAME:EDT
DTSTART:20200308T020000
TZOFFSETFROM:-0500
TZOFFSETTO:-0400
RDATE:20210314T020000
END:DAYLIGHT
END:VTIMEZONE
BEGIN:VEVENT
UID:1a6970ce-fb0e-4a30-b794-c8e735dccc6d
DTSTAMP:20260421T080456Z
DESCRIPTION:HD SUPPORT GROUP CALL\nThursday at 12:30 pm ET LINK:\nhttps://P
 MDAlliance.zoom.us/j/769346544\n
DTSTART;TZID=America/New_York:20200730T123000
DTEND;TZID=America/New_York:20200730T133000
LOCATION:On-Line 'Virtual' Meeting
SUMMARY:HD SUPPORT GROUP CALL
END:VEVENT
END:VCALENDAR
