BEGIN:VCALENDAR
VERSION:2.0
PRODID:-//www.hdreach.org//NONSGML kigkonsult.se iCalcreator 2.30.10//
CALSCALE:GREGORIAN
METHOD:PUBLISH
UID:9dad759a-5188-4a99-953e-d5aa3cec78e3
X-WR-CALDESC:Please sign up for meeting reminders to receive meeting link.
X-WR-RELCALID:5ceb0d099cef66ca91fa36e380ac997d
X-WR-TIMEZONE:America/New_York
BEGIN:VTIMEZONE
TZID:America/New_York
BEGIN:STANDARD
TZNAME:EST
DTSTART:20191103T020000
TZOFFSETFROM:-0400
TZOFFSETTO:-0500
RDATE:20201101T020000
RDATE:20211107T020000
END:STANDARD
BEGIN:DAYLIGHT
TZNAME:EDT
DTSTART:20200308T020000
TZOFFSETFROM:-0500
TZOFFSETTO:-0400
RDATE:20210314T020000
END:DAYLIGHT
END:VTIMEZONE
BEGIN:VEVENT
UID:256be99a-bd16-4812-98cc-8cff3c9c9c42
DTSTAMP:20260421T093216Z
DESCRIPTION:Please sign up for meeting reminders to receive meeting link.
DTSTART;TZID=America/New_York:20200630T180000
DTEND;TZID=America/New_York:20200630T193000
LOCATION:Virtual
SUMMARY:Charlotte HD Reach HDSA SG
END:VEVENT
END:VCALENDAR
