BEGIN:VCALENDAR
VERSION:2.0
PRODID:-//www.hdreach.org//NONSGML kigkonsult.se iCalcreator 2.30.10//
CALSCALE:GREGORIAN
METHOD:PUBLISH
UID:f376fe70-6e7c-413e-ada9-845afe228911
X-WR-CALDESC:Please sign up for email reminders to receive meeting link.
X-WR-RELCALID:5663279e2eb6fc8781091676ddea9f95
X-WR-TIMEZONE:America/New_York
BEGIN:VTIMEZONE
TZID:America/New_York
BEGIN:STANDARD
TZNAME:EST
DTSTART:20191103T020000
TZOFFSETFROM:-0400
TZOFFSETTO:-0500
RDATE:20201101T020000
RDATE:20211107T020000
END:STANDARD
BEGIN:DAYLIGHT
TZNAME:EDT
DTSTART:20200308T020000
TZOFFSETFROM:-0500
TZOFFSETTO:-0400
RDATE:20210314T020000
END:DAYLIGHT
END:VTIMEZONE
BEGIN:VEVENT
UID:83dcb75f-9864-417b-94a7-6c62e9cb6f75
DTSTAMP:20260421T093609Z
DESCRIPTION:Please sign up for email reminders to receive meeting link.
DTSTART;TZID=America/New_York:20200618T190000
DTEND;TZID=America/New_York:20200618T203000
LOCATION:Virtual
SUMMARY:Triangle HD Reach HDSA SG
END:VEVENT
END:VCALENDAR
