BEGIN:VCALENDAR
VERSION:2.0
PRODID:-//www.hdreach.org//NONSGML kigkonsult.se iCalcreator 2.30.10//
CALSCALE:GREGORIAN
METHOD:PUBLISH
UID:27d64ee9-c36a-480b-a092-33897025ba39
X-WR-CALDESC:An HD support group held in Charleston\, South Carolina that m
 eets the second Saturday of each month from 10:00 to 11:30 at the MUSC Hea
 lth East Cooper Facility at 1600 Midtown Ave.\, Mount Pleasant\, SC 29464.
X-WR-RELCALID:cdd903f6e9cba14ba48b5e589a6520e1
X-WR-TIMEZONE:America/New_York
BEGIN:VTIMEZONE
TZID:America/New_York
BEGIN:STANDARD
TZNAME:EST
DTSTART:20191103T020000
TZOFFSETFROM:-0400
TZOFFSETTO:-0500
RDATE:20201101T020000
RDATE:20211107T020000
END:STANDARD
BEGIN:DAYLIGHT
TZNAME:EDT
DTSTART:20200308T020000
TZOFFSETFROM:-0500
TZOFFSETTO:-0400
RDATE:20210314T020000
END:DAYLIGHT
END:VTIMEZONE
BEGIN:VEVENT
UID:c0142c9a-fb30-476e-afa6-9de4ef1c01c1
DTSTAMP:20260421T093043Z
DESCRIPTION:An HD support group held in Charleston\, South Carolina that me
 ets the second Saturday of each month from 10:00 to 11:30 at the MUSC Heal
 th East Cooper Facility at 1600 Midtown Ave.\, Mount Pleasant\, SC 29464.
DTSTART;TZID=America/New_York:20200613T100000
DTEND;TZID=America/New_York:20200613T113000
LOCATION:MUSC Health East Cooper Facility at 1600 Midtown Ave.\, Mount Plea
 sant\, SC 29464
SUMMARY:Charleston HD Support Group
END:VEVENT
END:VCALENDAR
