BEGIN:VCALENDAR
VERSION:2.0
PRODID:-//www.hdreach.org//NONSGML kigkonsult.se iCalcreator 2.30.10//
CALSCALE:GREGORIAN
METHOD:PUBLISH
UID:dd44c6d3-e06a-4b06-b1f0-2db71d7e4fc4
X-WR-CALDESC:Please sign up for email reminders to receive the meeting link
 .
X-WR-RELCALID:47cb25a3dcce4730a0a87542e40f9b10
X-WR-TIMEZONE:America/New_York
BEGIN:VTIMEZONE
TZID:America/New_York
BEGIN:STANDARD
TZNAME:EST
DTSTART:20191103T020000
TZOFFSETFROM:-0400
TZOFFSETTO:-0500
RDATE:20201101T020000
RDATE:20211107T020000
END:STANDARD
BEGIN:DAYLIGHT
TZNAME:EDT
DTSTART:20200308T020000
TZOFFSETFROM:-0500
TZOFFSETTO:-0400
RDATE:20210314T020000
END:DAYLIGHT
END:VTIMEZONE
BEGIN:VEVENT
UID:11f30d2e-8ec6-485e-9b3a-e24ac0855053
DTSTAMP:20260421T093448Z
DESCRIPTION:Please sign up for email reminders to receive the meeting link.
DTSTART;TZID=America/New_York:20200602T153000
DTEND;TZID=America/New_York:20200602T173000
LOCATION:Virtual
SUMMARY:Triad HD Reach HDSA SG
END:VEVENT
END:VCALENDAR
