BEGIN:VCALENDAR
VERSION:2.0
PRODID:-//www.hdreach.org//NONSGML kigkonsult.se iCalcreator 2.30.10//
CALSCALE:GREGORIAN
METHOD:PUBLISH
UID:7cb28162-9ae5-41ae-bc10-a6695f05722f
X-WR-CALDESC:
X-WR-RELCALID:31fafa88de9f09fd543b35cbe8a6b7a0
X-WR-TIMEZONE:America/New_York
BEGIN:VTIMEZONE
TZID:America/New_York
BEGIN:STANDARD
TZNAME:EST
DTSTART:20191103T020000
TZOFFSETFROM:-0400
TZOFFSETTO:-0500
RDATE:20201101T020000
RDATE:20211107T020000
END:STANDARD
BEGIN:DAYLIGHT
TZNAME:EDT
DTSTART:20200308T020000
TZOFFSETFROM:-0500
TZOFFSETTO:-0400
RDATE:20210314T020000
END:DAYLIGHT
END:VTIMEZONE
BEGIN:VEVENT
UID:85e9bb47-e894-4320-8c2c-8381b095e105
DTSTAMP:20260421T110603Z
DESCRIPTION:
DTSTART;TZID=America/New_York:20200526T180000
DTEND;TZID=America/New_York:20200526T193000
LOCATION:Brighton Gardens of Charlotte\, 6000 Park South Drive\, Charlotte\
 , NC 28210
SUMMARY:Charlotte HD Reach HDSA SG
END:VEVENT
END:VCALENDAR
