BEGIN:VCALENDAR
VERSION:2.0
PRODID:-//www.hdreach.org//NONSGML kigkonsult.se iCalcreator 2.30.10//
CALSCALE:GREGORIAN
METHOD:PUBLISH
UID:850a0674-3fdc-4cd4-80b6-5e3e12b5b173
X-WR-CALDESC:The Huntington's Disease Society of America (HDSA) and Duke He
 alth hold bimonthly support groups for individuals diagnosed with or at-ri
 sk for Huntington's Disease and their carepartners. You do not have to be 
 a Duke patient to attend. Download a flyer for the support group here.\n\n
 The group will meet from 10:30 a.m.-12:30 p.m. on the following Wednesdays
 \, with a complimentary lunch at noon:\n\nJanuary 8\, 2020\nMarch 11th\, 2
 020\nMay 13th\, 2020\nJuly 8th\, 2020\nSept 9th\, 2020\nNov 11th\, 2020
X-WR-RELCALID:22e95d1e23448385b8c48315ccdf2348
X-WR-TIMEZONE:America/New_York
BEGIN:VTIMEZONE
TZID:America/New_York
BEGIN:STANDARD
TZNAME:EST
DTSTART:20191103T020000
TZOFFSETFROM:-0400
TZOFFSETTO:-0500
RDATE:20201101T020000
RDATE:20211107T020000
END:STANDARD
BEGIN:DAYLIGHT
TZNAME:EDT
DTSTART:20200308T020000
TZOFFSETFROM:-0500
TZOFFSETTO:-0400
RDATE:20210314T020000
END:DAYLIGHT
END:VTIMEZONE
BEGIN:VEVENT
UID:16707e72-7644-4802-92ac-3c2e8d50e154
DTSTAMP:20260421T110008Z
DESCRIPTION:The Huntington's Disease Society of America (HDSA) and Duke Hea
 lth hold bimonthly support groups for individuals diagnosed with or at-ris
 k for Huntington's Disease and their carepartners. You do not have to be a
  Duke patient to attend. Download a flyer for the support group here.\n\nT
 he group will meet from 10:30 a.m.-12:30 p.m. on the following Wednesdays\
 , with a complimentary lunch at noon:\n\nJanuary 8\, 2020\nMarch 11th\, 20
 20\nMay 13th\, 2020\nJuly 8th\, 2020\nSept 9th\, 2020\nNov 11th\, 2020
DTSTART;TZID=America/New_York:20200513T103000
DTEND;TZID=America/New_York:20200513T123000
LOCATION:Duke Integrative Medicine on 3475 Erwin Road\, Durham\, 27705.
SUMMARY:Duke Neurology/HDSA Support Group
END:VEVENT
END:VCALENDAR
