BEGIN:VCALENDAR
VERSION:2.0
PRODID:-//www.hdreach.org//NONSGML kigkonsult.se iCalcreator 2.30.10//
CALSCALE:GREGORIAN
METHOD:PUBLISH
UID:560d1531-9fea-4c7f-a99f-a13e7f99c885
X-WR-CALDESC:
X-WR-RELCALID:449fee035c3bd55ec79e9fa8826b19fb
X-WR-TIMEZONE:America/New_York
BEGIN:VTIMEZONE
TZID:America/New_York
BEGIN:STANDARD
TZNAME:EST
DTSTART:20191103T020000
TZOFFSETFROM:-0400
TZOFFSETTO:-0500
RDATE:20201101T020000
END:STANDARD
BEGIN:DAYLIGHT
TZNAME:EDT
DTSTART:20200308T020000
TZOFFSETFROM:-0500
TZOFFSETTO:-0400
RDATE:20210314T020000
END:DAYLIGHT
END:VTIMEZONE
BEGIN:VEVENT
UID:dc66785a-1137-41ec-9f13-59fd7120c80c
DTSTAMP:20260421T123830Z
DESCRIPTION:
DTSTART;TZID=America/New_York:20200428T180000
DTEND;TZID=America/New_York:20200428T193000
LOCATION:Brighton Gardens of Charlotte\, 6000 Park South Drive\, Charlotte\
 , NC 28210
SUMMARY:Charlotte HD Reach HDSA SG
END:VEVENT
END:VCALENDAR
